BEGIN:VCALENDAR
VERSION:2.0
PRODID:-//Eucalypt Australia - ECPv6.15.17.1//NONSGML v1.0//EN
CALSCALE:GREGORIAN
METHOD:PUBLISH
X-ORIGINAL-URL:https://eucalyptaustralia.org.au
X-WR-CALDESC:Events for Eucalypt Australia
REFRESH-INTERVAL;VALUE=DURATION:PT1H
X-Robots-Tag:noindex
X-PUBLISHED-TTL:PT1H
BEGIN:VTIMEZONE
TZID:Africa/Abidjan
BEGIN:STANDARD
TZOFFSETFROM:+0000
TZOFFSETTO:+0000
TZNAME:GMT
DTSTART:20240101T000000
END:STANDARD
END:VTIMEZONE
BEGIN:VTIMEZONE
TZID:UTC
BEGIN:STANDARD
TZOFFSETFROM:+0000
TZOFFSETTO:+0000
TZNAME:UTC
DTSTART:20240101T000000
END:STANDARD
END:VTIMEZONE
BEGIN:VEVENT
DTSTART;TZID=Africa/Abidjan:20250201T083000
DTEND;TZID=Africa/Abidjan:20250201T170000
DTSTAMP:20260418T061432
CREATED:20250215T070259Z
LAST-MODIFIED:20250215T070302Z
UID:990000177-1738398600-1738429200@eucalyptaustralia.org.au
SUMMARY:Eucalypt Discovery Self Guided Walk - Australian National Botanic Gardens (ACT)
DESCRIPTION:Explore Australia’s iconic and dominant tree species on this fascinating one-hour self-guided walk.\nThe Australian National Botanic Gardens are open from 8.30 am to 5.00 pm every day except Christmas Day. \nWind your way through the gardens and discover 21 of Australia’s iconic eucalypts on this self-guided walk which is supported by interpretation signs and a printed brochure. \nVisit the Visitor Centre while in the Gardens to pick up a flyer and map of the walk or download one here \nYou’ll learn how to distinguish the three kinds of eucalypt and find out about the variety of leaves\, fruits\, bark and more. \nEucalypts are a defining feature of much of the Australian landscape and an essential part of Australian culture. They dominate the trees of Australia and provide habitat and food for many native animals. \nOf the more than 850 eucalypt species known\, almost all are native only to Australia. Some species have a wide geographic distribution; others are extremely restricted in their natural habitat and need conservation. \nThe initiation and the refreshing of the Eucalypt Discovery Walk has been proudly supported by Eucalypt Australia. \nOur CEO Linda Baird recommends a special visit to the Eucalyptus scoparia – Wallangara White Gum – number 8 on the list – a massive example of what is normally a small to medium sized tree. \n 
URL:https://eucalyptaustralia.org.au/event/eucalypt-discovery-self-guided-walk-australian-national-botanic-gardens-act-2-2/2025-02-01/
LOCATION:Australian National Botanic Gardens\, Clunies Ross Street\, Acton\, ACT\, 2601\, Australia
ATTACH;FMTTYPE=image/jpeg:https://eucalyptaustralia.org.au/wp-content/uploads/2024/12/Euc-Disc-Walk-2-fzSjQj.tmp_.jpg
END:VEVENT
BEGIN:VEVENT
DTSTART;VALUE=DATE:20250216
DTEND;VALUE=DATE:20250321
DTSTAMP:20260418T061432
CREATED:20250305T030904Z
LAST-MODIFIED:20250305T030904Z
UID:990000159-1739664000-1742515199@eucalyptaustralia.org.au
SUMMARY:Great Aussie Gum Leaf Hunt
DESCRIPTION:Nuts About Gums will run a Competition with 3 categories to encourage people to get out in nature and explore our great gums.\n1st category is the Longest Leaf. Photo to be taken of leaf with a ruler or tape measure along with a piece of paper with their name\, date leaf found and rough location\, and submitted to an email address. Prizes for first second and third\n2nd category is the Widest Leaf. Photo to be taken of leaf with a ruler or tape measure along with a piece of paper with their name\, date leaf found and rough location\, and submitted to an email address. Prizes for first second and third\n3rd category is the Weirdest/Most Unusual Leaf. Photo to be taken of leaf along with a piece of paper with their name\, date leaf found and rough location\, and submitted to an email address. Prizes for first only. Judging of this will be done by the admin team of Nuts About Gums\,\nAll leaves must be retained until the winner announced as they may be required to be sent in for verification.\nTo enter you must be a member of Nuts About Gums Facebook Group\,\nResults will be published on Nuts About Gums Facebook Group https://www.facebook.com/groups/371844566747946\nAs this competition is to find the longest\, widest\, or weirdest leaf\, it is open to people of all ages and abilities and requires nothing more than a little sense of adventure and their eyes and there will be at least one of the categories suitable for every area of Australia.\n1st place in the first 2 categories\, will receive a Nuts About Gums pack consisting of a T-Shirt\, Bag\, Stubbie Cooler\, Mug and Beanie.\n2nd place in the first 2 categories\, will receive a Nuts About Gums pack consisting of a T-Shirt\, Mug\, Beanie.\n3rd place in the first 2 categories\, will receive a Nuts About Gums pack consisting of a Beanie.\nThe winner of the 3rd category will win a Nuts About Gums Beanie.
URL:https://eucalyptaustralia.org.au/event/great-aussie-gum-leaf-hunt/
LOCATION:Online
CATEGORIES:Art/Craft|Competition|Online
ATTACH;FMTTYPE=image/jpeg:https://eucalyptaustralia.org.au/wp-content/uploads/2025/02/Nuts-About-Gums-no-background.jpg
END:VEVENT
END:VCALENDAR