BEGIN:VCALENDAR
VERSION:2.0
PRODID:-//Eucalypt Australia - ECPv6.15.17.1//NONSGML v1.0//EN
CALSCALE:GREGORIAN
METHOD:PUBLISH
X-ORIGINAL-URL:https://eucalyptaustralia.org.au
X-WR-CALDESC:Events for Eucalypt Australia
REFRESH-INTERVAL;VALUE=DURATION:PT1H
X-Robots-Tag:noindex
X-PUBLISHED-TTL:PT1H
BEGIN:VTIMEZONE
TZID:AEDT
END:VTIMEZONE
BEGIN:VEVENT
DTSTART;VALUE=DATE:20241016
DTEND;VALUE=DATE:20241020
DTSTAMP:20260418T060135
CREATED:20241211T035023Z
LAST-MODIFIED:20241211T035023Z
UID:990000110-1729036800-1729382399@eucalyptaustralia.org.au
SUMMARY:Opera Australia - Mills' Eucalyptus - Palais Theatre\, Melbourne 16–19 October 2024
DESCRIPTION:Eucalyptus Opera\nCommissioned By Opera Australia And Victorian Opera\, after the novel “Eucalyptus” by Murray Bail\, composed by Jonathan Mills.\n \nFor more information and tickets see:\nhttps://opera.org.au/events/eucalyptus-melbourne/ \nAs per Opera Australia: \n“Stories in the trees. Weave them out of bark and leaves. \n\nThere are more than 800 species of Eucalyptus in Australia. There is only one Ellen Holland. \nEllen’s beauty is famous for miles around. Her overprotective father has created a safe place to protect her from the world: a forest of Eucalypts. \nEucalyptus australiana\, Eucalyptus marginata\, Eucalyptus maidenii … lovingly planted\, staked\, tied. \nBut is the forest a sanctuary or is Ellen imprisoned? \nEucalyptus is a new opera by Jonathan Mills\, based on Murray Bail’s beloved novel. It’s part Australian fairy tale and part musical evocation of the Australian bush. In this dappled landscape lurks both beauty and wonder. The score is mysterious and colourful\, with moments of dramatic intensity and hushed beauty. The libretto by Meredith Oakes is poetic and spare. \nEucalyptus is an ageless story of love and longing about a daughter and a father. \nUnable to bear the thought of losing Ellen\, her father announces a competition. He sets an impossible task: only a man who can name all the trees on his land may marry his daughter. \nAs suitors cross the world to try their luck\, Ellen encounters a stranger amongst her father’s trees: a storyteller with enchanting tales of faraway lands. \nRenowned Australian playwright and director Michael Gow directs this new production\, with designs by Simone Romaniuk. Desiree Frahn and Simon Meadows create the roles of Ellen and her father\, with Orchestra Victoria conducted by Tahu Matheson.”
URL:https://eucalyptaustralia.org.au/event/opera-australia-mills-eucalyptus-palais-theatre-melbourne-16-19-october-2024/
LOCATION:QLD
CATEGORIES:Art|Victoria
ATTACH;FMTTYPE=image/png:https://eucalyptaustralia.org.au/wp-content/uploads/2024/12/Screen-Shot-2024-01-25-at-5.14.48-pm-5f6h6v.tmp_.png
END:VEVENT
END:VCALENDAR