BEGIN:VCALENDAR
VERSION:2.0
PRODID:-//Eucalypt Australia - ECPv6.15.17.1//NONSGML v1.0//EN
CALSCALE:GREGORIAN
METHOD:PUBLISH
X-WR-CALNAME:Eucalypt Australia
X-ORIGINAL-URL:https://eucalyptaustralia.org.au
X-WR-CALDESC:Events for Eucalypt Australia
REFRESH-INTERVAL;VALUE=DURATION:PT1H
X-Robots-Tag:noindex
X-PUBLISHED-TTL:PT1H
BEGIN:VTIMEZONE
TZID:UTC
BEGIN:STANDARD
TZOFFSETFROM:+0000
TZOFFSETTO:+0000
TZNAME:UTC
DTSTART:20240101T000000
END:STANDARD
END:VTIMEZONE
BEGIN:VEVENT
DTSTART;TZID=UTC:20250525T100000
DTEND;TZID=UTC:20250525T120000
DTSTAMP:20260421T200323
CREATED:20250507T013612Z
LAST-MODIFIED:20250507T014543Z
UID:990000347-1748167200-1748174400@eucalyptaustralia.org.au
SUMMARY:Nature Sketching / Journaling in Melton Botanic Garden
DESCRIPTION:This 2-hour nature sketching / nature journaling workshop is suitable for complete beginners and those experienced. Come along and explore the amazing Eucalypt Arboretum at Melton Botanic Garden in a new way. \nYou might be curious about our eucalypts\, wanting to spend some time in nature or trying something creative. Workshop facilitator Kathleen is very friendly and helpful. The workshop will be held outdoors\, and we will be focusing on the beautiful Australian eucalypts – their incredible blooms\, gumnuts\, leaves\, bark\, everything – in all their colours\, shapes and textures! All supplies provided. \nThis event is celebrating Botanic Gardens Week 2025 and held in conjunction with the Friends of Melton Botanic Garden. \nFor those new to nature sketching / journaling – come along and learn some techniques in a friendly relaxed session\, with all supplies provided. No experience is necessary. Even if you think you are not artistic or creative\, this session is for you and you are very welcome. \nFor those experienced in nature sketching / journaling – come along and join other like-minded people (nature lovers\, creatives\, mindfulness advocates). There will be a variety of techniques offered. BYO your favourite journal and supplies\, or use those provided. \nPlease purchase a ticket below via Humanitix. \nhttps://events.humanitix.com/nature-sketching-eucalypts-in-melton-botanic-garden-25-may
URL:https://eucalyptaustralia.org.au/event/nature-sketching-journaling-in-melton-botanic-garden-2/
LOCATION:Melton Botanic Garden\, 21 Williams street\, Melton\, Victoria\, 3337\, Australia
CATEGORIES:Art|Exhibition|Talk / Workshop|Victoria,Art|Victoria,Art|Victoria|Workshop,Botanic Garden / Arboretum|Guided Walk|Victoria,Victoria
ATTACH;FMTTYPE=image/jpeg:https://eucalyptaustralia.org.au/wp-content/uploads/2025/01/NJ-page_Firework-scaled-e1738622626720.jpg
ORGANIZER;CN="Nothing Like Nature":MAILTO:nothinglikenature@pm.me
END:VEVENT
END:VCALENDAR