BEGIN:VCALENDAR
VERSION:2.0
PRODID:-//Eucalypt Australia - ECPv6.15.17.1//NONSGML v1.0//EN
CALSCALE:GREGORIAN
METHOD:PUBLISH
X-ORIGINAL-URL:https://eucalyptaustralia.org.au
X-WR-CALDESC:Events for Eucalypt Australia
REFRESH-INTERVAL;VALUE=DURATION:PT1H
X-Robots-Tag:noindex
X-PUBLISHED-TTL:PT1H
BEGIN:VTIMEZONE
TZID:AEDT
END:VTIMEZONE
BEGIN:VEVENT
DTSTART;VALUE=DATE:20230323
DTEND;VALUE=DATE:20240324
DTSTAMP:20260418T180950
CREATED:20241211T035216Z
LAST-MODIFIED:20241211T035216Z
UID:990000091-1679529600-1711238399@eucalyptaustralia.org.au
SUMMARY:Moora Eucalypt Tree Trail - Self-guided Walk (WA)
DESCRIPTION:Take a self-guided 2km walk around the local Eucalypts of Moora. The Salmon Gums\, Wandooos and York Gums.\nStart at the Moora Visitors Centre with the River Red Gum and go south.  You never know\, the Mottlecah may be in bloom when you get to the second stop.  12 stops in all. \nLook out for the QR codes on featured trees – they are being developed now by the Moora Catchment Council Landcare Coordinator. \nDownload the attached map: \nMoora Eucalypt Tree Trail \n  \n  \n  \n  \n 
URL:https://eucalyptaustralia.org.au/event/moora-eucalypt-tree-trail-self-guided-walk-wa/
LOCATION:QLD
CATEGORIES:Kids|Self-guided Walk|Western Australia
ATTACH;FMTTYPE=image/jpeg:https://eucalyptaustralia.org.au/wp-content/uploads/2024/12/draft-Moora-Eucalypt-Tree-Trail.pdf-scaled-mYfnwT.tmp_.jpg
END:VEVENT
BEGIN:VEVENT
DTSTART;VALUE=DATE:20240224
DTEND;VALUE=DATE:20240415
DTSTAMP:20260418T180950
CREATED:20241211T035215Z
LAST-MODIFIED:20241211T035215Z
UID:990000118-1708732800-1713139199@eucalyptaustralia.org.au
SUMMARY:Weaving Eucalypts Project Liz Williamson - Wangaratta Art Gallery (Vic)
DESCRIPTION:This collaborative project by weaver Liz Williamson explores local colour\, cultural connections\, and shared weaving traditions. In 2020\, Williamson began inviting colleagues in Australia and India to colour fabric with eucalyptus leaves collected locally. Once received in her studio\, Williamson wove the fabric into panels referencing the traditions of woven rag rugs.\nSince 2021\, the project has expanded to connect with more colleagues in Australia and India as well as other countries touched by the Indian Ocean – Bangladesh\, Indonesia\, Malaysia\, Pakistan\, Sri Lanka\, South Africa\, and Thailand. Extending from Williamson’s research into Australian natural dye plants\, the Weaving Eucalypts Project features 100 panels woven by Williamson with fabric dyed by 60 collaborators with over 50 eucalypts species identified and sourced from over 50 locations.
URL:https://eucalyptaustralia.org.au/event/weaving-eucalypts-project-liz-williamson-wangaratta-art-gallery-vic/
LOCATION:QLD
CATEGORIES:Art|Exhibition|Victoria
ATTACH;FMTTYPE=image/jpeg:https://eucalyptaustralia.org.au/wp-content/uploads/2024/12/Image-13-2-24-at-10.39-am-Ty0mGg.tmp_.jpg
END:VEVENT
BEGIN:VEVENT
DTSTART;VALUE=DATE:20240323
DTEND;VALUE=DATE:20240325
DTSTAMP:20260418T180950
CREATED:20241211T035215Z
LAST-MODIFIED:20241211T035215Z
UID:990000111-1711152000-1711324799@eucalyptaustralia.org.au
SUMMARY:Currency Creek Arboretum Open Days (SA)
DESCRIPTION:One of our most popular events and a must do for the true eucalypt enthusiast!\nFree 1 hour and extended 2 hour guided tours of the arboretum by eucalypt expert and arboretum curator Dean Nicolle\, beginning twice daily at 10 am and 2 pm. Don’t forget a hat and good walking shoes! \nCurrency Creek Arboretum boasts the world’s largest collection of eucalypt species\, with over 800 species and over 8000 individual trees planted over 30 hectares. \n\nEucalypt book sales\nEucalypt seedling sales of rare and unusual species\n\nMeet at Currency Creek Arboretum\, about one hour’s drive south of Adelaide city centre. Follow the signs from Adelaide Place\, which joins Alexandrina Road (the Goolwa to Strathalbyn road) about 1.5 km north of Currency Creek\, about 19 km south of Ashbourne\, and about 26 km south of Strathalbyn.
URL:https://eucalyptaustralia.org.au/event/currency-creek-arboretum-open-days-sa-2/
LOCATION:QLD
CATEGORIES:Botanic Garden / Arboretum|Guided Walk|South Australia
ATTACH;FMTTYPE=image/jpeg:https://eucalyptaustralia.org.au/wp-content/uploads/2024/12/Dean-Nicolle-e1613433445378-EzVCi6.tmp_.jpg
END:VEVENT
BEGIN:VEVENT
DTSTART;TZID=AEDT:20240323T090000
DTEND;TZID=AEDT:20240323T100000
DTSTAMP:20260418T180950
CREATED:20241211T035215Z
LAST-MODIFIED:20241211T035215Z
UID:990000114-1711184400-1711188000@eucalyptaustralia.org.au
SUMMARY:Noosa Botanic Gardens - Eucalypt Discovery Guided Walk
DESCRIPTION:Explore the gorgeous eucalypts of the Noosa Botanic Gardens at Cooroy including their Eucalyptus grandis; Corymbia tessellaris\, Corymbia citriodora AND their Eucalyptus Deglupta which is showing off its beautiful rainbow colours.\nMeet on Saturday 23rd of March at the main shelter shed just before 9 for a 9am departure\, finishing around 10 depending on questions. \nContact Julia at jlbartlett07@gmail.com with any enquiries.   \nProudly brought to you by the Friends of the Noosa Botanical Gardens. Enjoy thier plant sale from 7am to 12pm on the day and if you love all things horticultural\, want to contribute to the gardens and broaden your friendship network\, consider joining them as a volunteer.
URL:https://eucalyptaustralia.org.au/event/noosa-botanic-gardens-eucalypt-discovery-guided-walk/
LOCATION:QLD
ATTACH;FMTTYPE=image/png:https://eucalyptaustralia.org.au/wp-content/uploads/2024/12/Screen-Shot-2024-02-05-at-11.51.46-am-xKaRl0.tmp_.png
END:VEVENT
BEGIN:VEVENT
DTSTART;TZID=AEDT:20240323T090000
DTEND;TZID=AEDT:20240323T160000
DTSTAMP:20260418T180950
CREATED:20241211T035215Z
LAST-MODIFIED:20241211T035215Z
UID:990000125-1711184400-1711209600@eucalyptaustralia.org.au
SUMMARY:Wild About Eucalypts - Currumbin Wildlife Sanctuary (Qld)
DESCRIPTION:Currumbin Wildlife Sanctuary will host a day dedicated to nature and eucalypt conservation\, inviting visitors to explore the essential connection between eucalypts\, wildlife\, and environmental preservation.\nAgainst the lush backdrop of the 27-hectare sanctuary\, the event will include engaging activities for all ages\, from storytelling and face painting to up-close creature encounters\, allowing little ones to understand the significance of eucalypts in supporting wildlife. Experts in wildlife and eucalypts will address recent challenges faced by the community in the aftermath of the Christmas day storms\, emphasising the ongoing importance of planting and maintaining eucalypts for wildlife and climate resilience. \nEvent attendance is included in the ticket price (https://currumbinsanctuary.com.au/tickets-and-encounters/day-pass#) for all visitors to Currumbin Wildlife Sanctuary on the day. Attendees can then spend the day experiencing unique eucalypt varieties in their natural habitat\, see first-hand the impact of eucalypts through visiting Currumbin Wildlife Hospital and gain insights into their critical role in sustaining the local ecosystem. \nBook for 23 March 2024 via https://currumbinsanctuary.com.au \nPhoto: Penny from Tallebudgera\, QLD\, was 1 of 250 Koalas vaccinated in our Koala Chlamydia Vaccine Research Program at Currumbin Wildlife Hospital. Penny is now a proud mum to two Koala joeys\, Pablo & Pedro!  The sanctuary is working towards vaccinating 10% of the local Elanora sub-adult Koala population annually and supports habitat conservation in urban areas to safeguard the koalas’ future. \n 
URL:https://eucalyptaustralia.org.au/event/wild-about-eucalypts-currumbin-wildlife-sanctuary-qld/
LOCATION:QLD
CATEGORIES:Festival|Kids|Queensland|Talk / Workshop
ATTACH;FMTTYPE=image/jpeg:https://eucalyptaustralia.org.au/wp-content/uploads/2024/12/Currumbin-Wildlife-Hospital_Penny-bDKma3.tmp_.jpg
END:VEVENT
BEGIN:VEVENT
DTSTART;TZID=AEDT:20240323T100000
DTEND;TZID=AEDT:20240323T113000
DTSTAMP:20260418T180950
CREATED:20241211T035215Z
LAST-MODIFIED:20241211T035215Z
UID:990000116-1711188000-1711193400@eucalyptaustralia.org.au
SUMMARY:Eucalyptus Walk Royal Botanic Gardens Melbourne
DESCRIPTION:About 900 species and sub-species of eucalypt grow in Australia and have adapted to amazingly diverse habitats and climates. These environments include deserts\, snowy mountains\, coasts\, rainforest edges\, monsoonal areas and many places in between. Unsurprisingly\, their leaves\, flowers\, fruits\, bark and height vary enormously\, ranging from two-metre high shrubs to towering forest giants of 100m. Come and learn more about this fascinating genus and celebrate National Eucalyptus Day by joining these guided tours which explore the eucalypt collection at Melbourne and Cranbourne Gardens.\nBookings essential \nhttps://www.rbg.vic.gov.au/melbourne-gardens/what-s-on-melbourne/free-guided-walk/
URL:https://eucalyptaustralia.org.au/event/eucalyptus-walk-royal-botanic-gardens-melbourne/
LOCATION:QLD
CATEGORIES:Botanic Garden / Arboretum|Guided Walk|Victoria
ATTACH;FMTTYPE=image/png:https://eucalyptaustralia.org.au/wp-content/uploads/2024/12/RBG-Melb-2021-MDvsz4.tmp_.png
END:VEVENT
BEGIN:VEVENT
DTSTART;TZID=AEDT:20240323T100000
DTEND;TZID=AEDT:20240323T113000
DTSTAMP:20260418T180950
CREATED:20241211T035215Z
LAST-MODIFIED:20241211T035215Z
UID:990000117-1711188000-1711193400@eucalyptaustralia.org.au
SUMMARY:Eucalyptus Walk Royal Botanic Gardens Cranbourne with Russell Larke
DESCRIPTION:About 900 species and sub-species of eucalypt grow in Australia and have adapted to amazingly diverse habitats and climates. These environments include deserts\, snowy mountains\, coasts\, rainforest edges\, monsoonal areas and many places in between. Unsurprisingly\, their leaves\, flowers\, fruits\, bark and height vary enormously\, ranging from two-metre high shrubs to towering forest giants of 100m. Come and learn more about this fascinating genus and celebrate National Eucalyptus Day by joining these guided tours which explore the eucalypt collection at Melbourne and Cranbourne Gardens.\nRussell Larke renowned and passionate eucalypt expert will be your guide at Cranbourne \nBookings essential\, $20 Adult\, $15 conc and $15 child \nhttps://www.rbg.vic.gov.au/cranbourne-gardens/what-s-on-cranbourne/
URL:https://eucalyptaustralia.org.au/event/eucalyptus-walk-royal-botanic-gardens-cranbourne-with-russell-larke/
LOCATION:QLD
CATEGORIES:Botanic Garden / Arboretum|Guided Walk|Victoria
ATTACH;FMTTYPE=image/png:https://eucalyptaustralia.org.au/wp-content/uploads/2024/12/RBG-Cranbourne-2020-e1676870514203-nWrWpe.tmp_.png
END:VEVENT
BEGIN:VEVENT
DTSTART;TZID=AEDT:20240323T100000
DTEND;TZID=AEDT:20240323T160000
DTSTAMP:20260418T180950
CREATED:20241211T035218Z
LAST-MODIFIED:20241211T035218Z
UID:990000071-1711188000-1711209600@eucalyptaustralia.org.au
SUMMARY:Inglewood\, home of the Blue Eucy! (Vic)
DESCRIPTION:The Eucy Museum at Inglewood will be abuzz on National Eucalypt Day with:- an informative talk\,\n– eucalyptus oil distillation demonstrations\,\n– eucalyptus themed art show\, and\n– sales of local mallee tree tubestock. \nThis year the Eucy Museum will be focussing their talk on:\n– the locals’ long relationship with the Blue Mallee Eucalyptus and its role in shaping the region’s history and industry\,\n– the implications of climate change (especially recent flooding) on the local plantations\, and\n– the suitability of our local mallee species to the small suburban garden. \nLocal artist Fiona Rogers will be demonstrating fabric dyeing with eucalyptus leaves. \nDemonstrations of blue mallee eucalyptus oil distillation will occur at various times throughout the weekend. \nThe art show will have works related to the local\, natural environment.
URL:https://eucalyptaustralia.org.au/event/inglewood-home-of-the-blue-eucy-vic/
LOCATION:QLD
CATEGORIES:Art|Exhibition|Talk / Workshop|Victoria
ATTACH;FMTTYPE=image/jpeg:https://eucalyptaustralia.org.au/wp-content/uploads/2024/12/Old-Jones-16-9-Punch-copy-Mjkdeb.tmp_.jpg
END:VEVENT
BEGIN:VEVENT
DTSTART;TZID=AEDT:20240323T110000
DTEND;TZID=AEDT:20240323T130000
DTSTAMP:20260418T180950
CREATED:20241211T035214Z
LAST-MODIFIED:20241211T035214Z
UID:990000126-1711191600-1711198800@eucalyptaustralia.org.au
SUMMARY:Art of Flow Workshop:  Intuitive Art inspired by the Eucalypt Leaf  (Online)
DESCRIPTION: Intuitive Art inspired by the Eucalypt Leaf …by Gabbi Kitchener\nCelebrating the life-giving Eucalypt tree through art.   \nThis free online painting workshop will be streamed via Facebook Live. \nSaturday 23rd March 2024\n11am – 1pm (Sydney time\, AEDT)\nUsing whatever paint and paper you already have (with a simple suggested materials list in case). \nTo prepare for the workshop\, you will be asked to wander outdoors in parks\, gardens or the bush and collect leaves\, branches\, take photos…  sit and observe\, soak up the colours\, shapes\, smells\, feelings\, sounds of the eucalypt environment. \nThe workshop will begin with expressive painting all over the page considering the colours and all the sensations of eucalyptus. \nYou will need a sprig or 2 of eucalyptus leaves or a great view of a tree… We will be looking at the spaces between the leaves (the negative spaces) to mark out a design and block out the spaces with opaque paint. This will leave the leaves as the beautiful free and colourful layer that we started with. \nMany beginners are amazed by what they can achieve and for more experienced artists this is a fun and dynamic way to explore the skills they already have and try something new. \n\nCreate a unique & original artwork inspired by the beauty of the Eucalyptus Tree & it’s leaves. \nEveryone is welcome. \nThe session will be live-streamed in our FB group (Art of Flow at home). \nThe replay will be available if you cannot attend the live session. \n\nRegistration is essential\, please use the link: \n\nhttps://www.artofflow.art/eucalyptdayworkshop
URL:https://eucalyptaustralia.org.au/event/art-of-flow-workshop-intuitive-art-inspired-by-the-eucalypt-leaf-online/
LOCATION:QLD
CATEGORIES:Art|Online|Workshop
ATTACH;FMTTYPE=image/png:https://eucalyptaustralia.org.au/wp-content/uploads/2024/12/Art-of-Flow1-ZzqcSW.tmp_.png
END:VEVENT
BEGIN:VEVENT
DTSTART;TZID=AEDT:20240323T110000
DTEND;TZID=AEDT:20240323T130000
DTSTAMP:20260418T180950
CREATED:20241211T035215Z
LAST-MODIFIED:20241211T035215Z
UID:990000124-1711191600-1711198800@eucalyptaustralia.org.au
SUMMARY:Our very own Eucalyptus yarriambiack - guided walk\, Brim (Vic)
DESCRIPTION:Yarriambiack Shire in Victoria has its very own endemic eucalypt\, the Yarriambiack Mallee-Box. It is known from only about 150 specimens just north of Brim along the Yarriambiack Creek.\nAlicia Merriam\, the Yarrilinks Landcare Facilitator will deliver a presentation about the species\, and conduct a field visit to see it in person and so you can learn its distinguishing features.  The event will  finish with a BYO picnic lunch at Brim. \nThis species was first described in 2012 by Kevin James Rule and is part of the E. odorata complex. Similar species include E. odorata\, E. wimmerensis\, and E. polybractea. Due to its limited population size and distribution\, an observed lack of seedling recruitment\, and threat exposure in the limited reserves where it grows\, Kevin Rule noted that under IUCN criteria it should be regarded as critically endangered. \nThere appears to be little awareness of this special unique species in the local community\, although many have shown a great deal of interest upon hearing about it. Yarriambiack Shire has been heavily cleared for intensive agriculture\, and native vegetation is restricted to small reserves and riparian areas along the Yarriambiack and Dunmunkle Creeks. Unique species such as this can be an iconic species to capture interest\, attention\, and provide a focus for conservation in the region. \nBookings are essential via landcare@yarrilinks.org.au \nPhoto credit Kevin Rule \nhttps://www.rbg.vic.gov.au/media/jewdmc1i/muelleria_30-2-_rule_low_res.pdf \n  \n 
URL:https://eucalyptaustralia.org.au/event/our-very-own-eucalyptus-yarriambiack-guided-walk-brim-vic/
LOCATION:QLD
CATEGORIES:Guided Walk|Victoria
ATTACH;FMTTYPE=image/png:https://eucalyptaustralia.org.au/wp-content/uploads/2024/12/E-Yarriambiack-Kevin-Rule-gZitmd.tmp_.png
END:VEVENT
END:VCALENDAR